BEGIN:VCALENDAR
VERSION:2.0
PRODID:-//Imba En Colombia - ECPv6.9.0//NONSGML v1.0//EN
CALSCALE:GREGORIAN
METHOD:PUBLISH
X-WR-CALNAME:Imba En Colombia
X-ORIGINAL-URL:https://imba.com.co
X-WR-CALDESC:Eventos para Imba En Colombia
REFRESH-INTERVAL;VALUE=DURATION:PT1H
X-Robots-Tag:noindex
X-PUBLISHED-TTL:PT1H
BEGIN:VTIMEZONE
TZID:UTC
BEGIN:STANDARD
TZOFFSETFROM:+0000
TZOFFSETTO:+0000
TZNAME:UTC
DTSTART:20240101T000000
END:STANDARD
END:VTIMEZONE
BEGIN:VEVENT
DTSTART;TZID=UTC:20241109T080000
DTEND;TZID=UTC:20241111T170000
DTSTAMP:20260422T035207
CREATED:20230312T135018Z
LAST-MODIFIED:20241031T044738Z
UID:682-1731139200-1731344400@imba.com.co
SUMMARY:Camino Real de Santa fe.
DESCRIPTION:El Antiguo Camino Real de Santa Fe fue una histórica ruta colonial que conectaba el puerto de Honda\, a orillas del río Magdalena\, con Bogotá. Este camino de montaña\, trazado en el siglo XVI\, fue crucial para el comercio y la comunicación en la Nueva Granada\, permitiendo el transporte de mercancías\, alimentos y viajeros entre la costa y la capital. Con secciones empedradas y tramos escarpados\, el trayecto reflejaba la habilidad de los ingenieros coloniales para adaptar la infraestructura a la geografía andina\, y en su recorrido se encuentran aún antiguos puentes y pueblos históricos. \n 
URL:https://imba.com.co/event/pancake-breakfast-2/
CATEGORIES:Event
ATTACH;FMTTYPE=image/jpeg:https://imba.com.co/wp-content/uploads/2023/03/Camino-Real-De-Santafe.jpg
END:VEVENT
END:VCALENDAR